BEGIN:VCALENDAR
VERSION:2.0
PRODID:-//CVMA 49-6 - ECPv6.15.20//NONSGML v1.0//EN
CALSCALE:GREGORIAN
METHOD:PUBLISH
X-WR-CALNAME:CVMA 49-6
X-ORIGINAL-URL:https://cvma49-6.com
X-WR-CALDESC:Events for CVMA 49-6
REFRESH-INTERVAL;VALUE=DURATION:PT1H
X-Robots-Tag:noindex
X-PUBLISHED-TTL:PT1H
BEGIN:VTIMEZONE
TZID:America/Denver
BEGIN:DAYLIGHT
TZOFFSETFROM:-0700
TZOFFSETTO:-0600
TZNAME:MDT
DTSTART:20220313T090000
END:DAYLIGHT
BEGIN:STANDARD
TZOFFSETFROM:-0600
TZOFFSETTO:-0700
TZNAME:MST
DTSTART:20221106T080000
END:STANDARD
BEGIN:DAYLIGHT
TZOFFSETFROM:-0700
TZOFFSETTO:-0600
TZNAME:MDT
DTSTART:20230312T090000
END:DAYLIGHT
BEGIN:STANDARD
TZOFFSETFROM:-0600
TZOFFSETTO:-0700
TZNAME:MST
DTSTART:20231105T080000
END:STANDARD
BEGIN:DAYLIGHT
TZOFFSETFROM:-0700
TZOFFSETTO:-0600
TZNAME:MDT
DTSTART:20240310T090000
END:DAYLIGHT
BEGIN:STANDARD
TZOFFSETFROM:-0600
TZOFFSETTO:-0700
TZNAME:MST
DTSTART:20241103T080000
END:STANDARD
BEGIN:DAYLIGHT
TZOFFSETFROM:-0700
TZOFFSETTO:-0600
TZNAME:MDT
DTSTART:20250309T090000
END:DAYLIGHT
BEGIN:STANDARD
TZOFFSETFROM:-0600
TZOFFSETTO:-0700
TZNAME:MST
DTSTART:20251102T080000
END:STANDARD
END:VTIMEZONE
BEGIN:VEVENT
DTSTART;TZID=America/Denver:20240601T080000
DTEND;TZID=America/Denver:20240601T210000
DTSTAMP:20260423T190039
CREATED:20231126T070514Z
LAST-MODIFIED:20231126T070514Z
UID:1789-1717228800-1717275600@cvma49-6.com
SUMMARY:Utah State Meeting
DESCRIPTION:
URL:https://cvma49-6.com/event/utah-state-meeting/
LOCATION:CA
ATTACH;FMTTYPE=image/png:https://cvma49-6.com/wp-content/uploads/2023/09/FMPatch.png
END:VEVENT
BEGIN:VEVENT
DTSTART;TZID=America/Denver:20240503T080000
DTEND;TZID=America/Denver:20240505T210000
DTSTAMP:20260423T190039
CREATED:20231126T070131Z
LAST-MODIFIED:20231126T070131Z
UID:1786-1714723200-1714942800@cvma49-6.com
SUMMARY:Region VIII Rally 2024
DESCRIPTION:eting
URL:https://cvma49-6.com/event/region-viii-rally-2024/
LOCATION:CA
ATTACH;FMTTYPE=image/jpeg:https://cvma49-6.com/wp-content/uploads/2023/11/IMG_2068.jpeg
END:VEVENT
BEGIN:VEVENT
DTSTART;TZID=America/Denver:20240420T080000
DTEND;TZID=America/Denver:20240420T170000
DTSTAMP:20260423T190039
CREATED:20240223T184751Z
LAST-MODIFIED:20240223T185354Z
UID:1950-1713600000-1713632400@cvma49-6.com
SUMMARY:CVMA 33-1 12 Annual Stand Up Ride 2024
DESCRIPTION:Trip to 33-1 Escondido ride. Plan is to ride from here to Escondido on Friday. Do the ride Saturday morning info and then ride back to Mesquite Saturday. And then home on Sunday. \nContact Batman if interested to start the planning process.
URL:https://cvma49-6.com/event/cvma-33-1-12-annual-stand-up-ride-2024/
LOCATION:Escondido Elks Lodge #1687\, 2430 S Escondido Blvd\, Escondido\, CA\, 92025
ATTACH;FMTTYPE=image/png:https://cvma49-6.com/wp-content/uploads/2024/02/wqr1ns73.png
END:VEVENT
BEGIN:VEVENT
DTSTART;TZID=America/Denver:20240406T080000
DTEND;TZID=America/Denver:20240406T170000
DTSTAMP:20260423T190039
CREATED:20240223T182006Z
LAST-MODIFIED:20240223T182517Z
UID:1938-1712390400-1712422800@cvma49-6.com
SUMMARY:SLMC 46th Annual Polar Bear Ride
DESCRIPTION:Salt Lake Motorcycle Club’s 46th Annual Polar Bear Ride benefiting Make-A-Wish® Utah is 8:30 AM Saturday\, April 6th at South Valley Harley-Davidson® in Sandy\, UT.
URL:https://cvma49-6.com/event/slmc-46th-annual-polar-bear-ride/
LOCATION:Harley Davidson-South Valley\, 8886 Sandy Pkwy\, Sandy\, UT\, 84070\, United States
ATTACH;FMTTYPE=image/jpeg:https://cvma49-6.com/wp-content/uploads/2024/02/426490339_789842963175955_4339145954881312563_n.jpg
END:VEVENT
BEGIN:VEVENT
DTSTART;TZID=America/Denver:20240323T123000
DTEND;TZID=America/Denver:20240323T160000
DTSTAMP:20260423T190039
CREATED:20240224T024022Z
LAST-MODIFIED:20240224T025118Z
UID:1957-1711197000-1711209600@cvma49-6.com
SUMMARY:CVMA 49-6 Chapter Meeting! 
DESCRIPTION:  \nMervyn Sharp Bennion Central Utah Veterans Home March 23\, 2024 @1 2:30 PM; Location: 1551 N Main St\, Payson\, UT 84651 \nGet ready for an extraordinary gathering at the Mervyn Sharp Bennion Central Utah Veterans Home for our CVMA 49-6 Chapter Meeting! Mark your calendars for a day filled with camaraderie\, fun\, and patriotic connections. \nHere’s what’s in store: \n12:30 PM: Chapter Meeting \n\nLocation: Big Conference Room\n\nPrepare for engaging discussions\, updates\, and planning for our upcoming endeavors. It’s a time to unite and strengthen our bonds as a community committed to serving veterans. \n2:00 PM: Game Time with Vets \n\nLocation: Game Room\n\nAfter the meeting\, let’s transition into a fulfilling afternoon! Join our honored veterans in the game room for an array of thrilling activities including axe throwing\, bingo\, air hockey\, pool\, and poker table fun. Share laughter\, stories\, and create lasting memories with those who have served our nation. \nPlus\, for those who may need a more intimate visit\, we encourage some to break off and spend time with veterans who may have more limitations\, offering visits right in their rooms. \nLet’s show our appreciation and support for our veterans in a meaningful and enjoyable way. Your presence will truly make a difference! \nStaff said treats are welcome if we would like to bring any food items to share. \nWe look forward to seeing you there!
URL:https://cvma49-6.com/event/cvma-49-6-chapter-meeting/
LOCATION:Mervyn Sharp Bennion Central Utah Veterans Home\, 1551 N Main St\, Payson\, UT\, 84651\, United States
ATTACH;FMTTYPE=image/jpeg:https://cvma49-6.com/wp-content/uploads/2024/02/BennionVeteranEvent_JamieTervortPhoto2016_001.jpg
END:VEVENT
BEGIN:VEVENT
DTSTART;TZID=America/Denver:20240316T050000
DTEND;TZID=America/Denver:20240316T050000
DTSTAMP:20260423T190039
CREATED:20240223T174955Z
LAST-MODIFIED:20240223T182605Z
UID:1928-1710565200-1710565200@cvma49-6.com
SUMMARY:9th Annual Vets for Vets
DESCRIPTION:The plan is to trailer bikes down to St. George and ride from there. There is interest from 49-4 and if any of them go we will meet up with them and all ride together. \nIt’s roughly a 9-10 hour straight ride from St. George to tombstone. We will need an accurate count soon to make sure we have room. If you decide to go and have a trailer please let Uncle Dick know.There are hotels and air B&b in the area. Try to get a room in tombstone if you want to be close. All others will be at least 20 miles away. \nHope to get a good group. Be safe out there.
URL:https://cvma49-6.com/event/9th-annual-vets-for-vets/
LOCATION:American Legion Post 24\, 225 E Allen Street\, Tombstone\, AZ\, 85638\, United States
ATTACH;FMTTYPE=image/jpeg:https://cvma49-6.com/wp-content/uploads/2024/02/424918812_410281624726484_1611668140506731277_n.jpg
END:VEVENT
BEGIN:VEVENT
DTSTART;TZID=America/Denver:20231216T130000
DTEND;TZID=America/Denver:20231216T140000
DTSTAMP:20260423T190039
CREATED:20231126T064032Z
LAST-MODIFIED:20231126T103744Z
UID:1778-1702731600-1702735200@cvma49-6.com
SUMMARY:Chapter 49-6 Meeting
DESCRIPTION:
URL:https://cvma49-6.com/event/chapter-49-6-meeting/
LOCATION:TBA
ATTACH;FMTTYPE=image/png:https://cvma49-6.com/wp-content/uploads/2023/09/cropped-Skully-496-512-300x300-1.png
END:VEVENT
BEGIN:VEVENT
DTSTART;TZID=America/Denver:20231202T140000
DTEND;TZID=America/Denver:20231202T170000
DTSTAMP:20260423T190039
CREATED:20231126T065423Z
LAST-MODIFIED:20231126T065423Z
UID:1782-1701525600-1701536400@cvma49-6.com
SUMMARY:Veterans Home Christmas Visit
DESCRIPTION:
URL:https://cvma49-6.com/event/veterans-home-christmas-visit/
LOCATION:Central Utah Veterans Home\, 1551 N Main St\, Payson\, UT\, 84651\, United States
ATTACH;FMTTYPE=image/jpeg:https://cvma49-6.com/wp-content/uploads/2023/11/vethome.jpg
END:VEVENT
END:VCALENDAR