BEGIN:VCALENDAR
VERSION:2.0
PRODID:-//CVMA 49-6 - ECPv6.15.20//NONSGML v1.0//EN
CALSCALE:GREGORIAN
METHOD:PUBLISH
X-ORIGINAL-URL:https://cvma49-6.com
X-WR-CALDESC:Events for CVMA 49-6
REFRESH-INTERVAL;VALUE=DURATION:PT1H
X-Robots-Tag:noindex
X-PUBLISHED-TTL:PT1H
BEGIN:VTIMEZONE
TZID:America/Denver
BEGIN:DAYLIGHT
TZOFFSETFROM:-0700
TZOFFSETTO:-0600
TZNAME:MDT
DTSTART:20240310T090000
END:DAYLIGHT
BEGIN:STANDARD
TZOFFSETFROM:-0600
TZOFFSETTO:-0700
TZNAME:MST
DTSTART:20241103T080000
END:STANDARD
BEGIN:DAYLIGHT
TZOFFSETFROM:-0700
TZOFFSETTO:-0600
TZNAME:MDT
DTSTART:20250309T090000
END:DAYLIGHT
BEGIN:STANDARD
TZOFFSETFROM:-0600
TZOFFSETTO:-0700
TZNAME:MST
DTSTART:20251102T080000
END:STANDARD
BEGIN:DAYLIGHT
TZOFFSETFROM:-0700
TZOFFSETTO:-0600
TZNAME:MDT
DTSTART:20260308T090000
END:DAYLIGHT
BEGIN:STANDARD
TZOFFSETFROM:-0600
TZOFFSETTO:-0700
TZNAME:MST
DTSTART:20261101T080000
END:STANDARD
END:VTIMEZONE
BEGIN:VEVENT
DTSTART;TZID=America/Denver:20250614T130000
DTEND;TZID=America/Denver:20250614T140000
DTSTAMP:20260423T140212
CREATED:20250601T120750Z
LAST-MODIFIED:20250601T120755Z
UID:2468-1749906000-1749909600@cvma49-6.com
SUMMARY:June Meeting
DESCRIPTION:June meeting is coming up\, we will be electing a new CO to fill the shoes Sensei left when he got state rep. The people nominated were Gunnar\, Casper\, and Uncle Dick. Hope to see you all there to help chose a new Chapter Commander!!
URL:https://cvma49-6.com/event/june-meeting/
LOCATION:The Last Call\, 135 N 2000 W\, Springville\, UT\, 84663\, United States
CATEGORIES:Chapter Meeting
ATTACH;FMTTYPE=image/jpeg:https://cvma49-6.com/wp-content/uploads/2025/06/IMG_4142.jpg
END:VEVENT
BEGIN:VEVENT
DTSTART;TZID=America/Denver:20250323T100000
DTEND;TZID=America/Denver:20250323T120000
DTSTAMP:20260423T140212
CREATED:20250227T175548Z
LAST-MODIFIED:20250601T115440Z
UID:2341-1742724000-1742731200@cvma49-6.com
SUMMARY:March Meeting Madness
DESCRIPTION:March meeting is on a Sunday so those working Saturday can join. Going to be at 10 am hope to see you all there!!!!
URL:https://cvma49-6.com/event/march-meeting-madness/
LOCATION:Sandstone Mental Health\, 607 E Kirby Lane\, SDpanish Fork\, UT\, United States
CATEGORIES:Chapter Meeting
ATTACH;FMTTYPE=image/jpeg:https://cvma49-6.com/wp-content/uploads/2025/02/IMG_2387-sm.jpg
END:VEVENT
END:VCALENDAR